BEGIN:VCALENDAR
VERSION:2.0
PRODID:-//REALPAC - ECPv6.15.13.1//NONSGML v1.0//EN
CALSCALE:GREGORIAN
METHOD:PUBLISH
X-ORIGINAL-URL:https://realpac.ca
X-WR-CALDESC:Events for REALPAC
REFRESH-INTERVAL;VALUE=DURATION:PT1H
X-Robots-Tag:noindex
X-PUBLISHED-TTL:PT1H
BEGIN:VTIMEZONE
TZID:America/Toronto
BEGIN:DAYLIGHT
TZOFFSETFROM:-0500
TZOFFSETTO:-0400
TZNAME:EDT
DTSTART:20250309T070000
END:DAYLIGHT
BEGIN:STANDARD
TZOFFSETFROM:-0400
TZOFFSETTO:-0500
TZNAME:EST
DTSTART:20251102T060000
END:STANDARD
BEGIN:DAYLIGHT
TZOFFSETFROM:-0500
TZOFFSETTO:-0400
TZNAME:EDT
DTSTART:20260308T070000
END:DAYLIGHT
BEGIN:STANDARD
TZOFFSETFROM:-0400
TZOFFSETTO:-0500
TZNAME:EST
DTSTART:20261101T060000
END:STANDARD
BEGIN:DAYLIGHT
TZOFFSETFROM:-0500
TZOFFSETTO:-0400
TZNAME:EDT
DTSTART:20270314T070000
END:DAYLIGHT
BEGIN:STANDARD
TZOFFSETFROM:-0400
TZOFFSETTO:-0500
TZNAME:EST
DTSTART:20271107T060000
END:STANDARD
END:VTIMEZONE
BEGIN:VEVENT
DTSTART;VALUE=DATE:20260224
DTEND;VALUE=DATE:20260225
DTSTAMP:20260422T082717
CREATED:20260210T132617Z
LAST-MODIFIED:20260210T132700Z
UID:10000112-1771891200-1771977599@realpac.ca
SUMMARY:RealCapital 2026
DESCRIPTION:Connect with over 750+ senior decision-makers\, including 50+ speakers\, to explore insights on debt access\, equity raising\, and capital recycling for institutional investors\, REITs\, and private equity funds.
URL:https://realpac.ca/event/realcapital2026/
LOCATION:Metro Toronto Convention Centre\, 255 Front St W\, Toronto\, ON\, M5V 2W6\, Canada
CATEGORIES:Conference
ATTACH;FMTTYPE=image/jpeg:https://realpac.ca/app/uploads/2026/02/RC26-REALPAC.jpg
END:VEVENT
END:VCALENDAR